BEGIN:VCALENDAR
VERSION:2.0
PRODID:SchoolNow
CALSCALE:GREGORIAN
BEGIN:VEVENT
UID:e6b93f48-9560-11ef-9c33-0a58a9feac02
DTSTAMP:20241028T191449Z
SUMMARY:Week 1
LOCATION:Park Elementary
URL;VALUE=URI:https://www.steelvalleysd.org/park/calendar/6914702/week-1
DTSTART:20241111T110000Z
DTEND:20241115T220000Z
END:VEVENT
END:VCALENDAR
