BEGIN:VCALENDAR
VERSION:2.0
PRODID:SchoolNow
CALSCALE:GREGORIAN
BEGIN:VEVENT
UID:272c3e00-9560-11ef-aac3-0a58a9feac02
DTSTAMP:20241028T190927Z
SUMMARY:Title I Family Night
LOCATION:Park Elementary
URL;VALUE=URI:https://www.steelvalleysd.org/park/calendar/6914697/title-i-f
 amily-night
DTSTART:20241121T223000Z
DTEND:20241122T003000Z
END:VEVENT
END:VCALENDAR
