BEGIN:VCALENDAR
VERSION:2.0
PRODID:SchoolNow
CALSCALE:GREGORIAN
BEGIN:VEVENT
UID:ee7810c2-955d-11ef-bf41-0a58a9feac02
DTSTAMP:20241028T185333Z
SUMMARY:Week 3
LOCATION:Park Elementary
URL;VALUE=URI:https://www.steelvalleysd.org/park/calendar/6914689/week-3
DTSTART:20241029T100000Z
DTEND:20241101T210000Z
END:VEVENT
END:VCALENDAR
