BEGIN:VCALENDAR
VERSION:2.0
PRODID:SchoolNow
CALSCALE:GREGORIAN
BEGIN:VEVENT
UID:b2bef0c0-81ab-11ef-a5f1-0ebe7c07b0ff
DTSTAMP:20241007T194731Z
SUMMARY:Teacher In-service
LOCATION:Steel Valley School District
URL;VALUE=URI:https://www.steelvalleysd.org/park/calendar/6748256/teacher-i
 nservice-no-school-for-students
DTSTART;VALUE=DATE:20241007
DTEND;VALUE=DATE:20241008
END:VEVENT
END:VCALENDAR
