BEGIN:VCALENDAR
VERSION:2.0
PRODID:SchoolNow
CALSCALE:GREGORIAN
BEGIN:VEVENT
UID:b417a444-7c4c-11ef-8a28-020532869261
DTSTAMP:20240926T212806Z
SUMMARY:Trunk or Treat
LOCATION:Park Elementary
URL;VALUE=URI:https://www.steelvalleysd.org/park/calendar/6697360/trunk-or-
 treat
DTSTART:20241023T220000Z
DTEND:20241023T233000Z
END:VEVENT
END:VCALENDAR
