BEGIN:VCALENDAR
VERSION:2.0
PRODID:SchoolNow
CALSCALE:GREGORIAN
BEGIN:VEVENT
UID:b3b91168-7c4c-11ef-8105-0a58a9feac02
DTSTAMP:20240926T212627Z
SUMMARY:Happy Halloween
LOCATION:Park Elementary
URL;VALUE=URI:https://www.steelvalleysd.org/park/calendar/6697359/happy-hal
 loween
DTSTART:20241031T100000Z
DTEND:20241031T203000Z
END:VEVENT
END:VCALENDAR
