BEGIN:VCALENDAR
VERSION:2.0
PRODID:SchoolNow
CALSCALE:GREGORIAN
BEGIN:VEVENT
UID:421a1868-7c4c-11ef-804b-0a58a9feac02
DTSTAMP:20240926T211404Z
SUMMARY:Week 2
LOCATION:Park Elementary
URL;VALUE=URI:https://www.steelvalleysd.org/park/calendar/6697358/week-2
DTSTART:20241021T100000Z
DTEND:20241025T210000Z
END:VEVENT
END:VCALENDAR
