BEGIN:VCALENDAR
VERSION:2.0
PRODID:SchoolNow
CALSCALE:GREGORIAN
BEGIN:VEVENT
UID:2ab103bc-7c4c-11ef-8d8a-0a58a9feac02
DTSTAMP:20240926T211324Z
SUMMARY:Week 1
LOCATION:Park Elementary
URL;VALUE=URI:https://www.steelvalleysd.org/park/calendar/6697357/week-1
DTSTART:20241014T100000Z
DTEND:20241018T210000Z
END:VEVENT
END:VCALENDAR
