BEGIN:VCALENDAR
VERSION:2.0
PRODID:SchoolNow
CALSCALE:GREGORIAN
BEGIN:VEVENT
UID:0d29e8b8-7c4c-11ef-9da0-0a58a9feac02
DTSTAMP:20240926T211235Z
SUMMARY:Week 4
URL;VALUE=URI:https://www.steelvalleysd.org/park/calendar/6697355/week-4
DTSTART:20241007T100000Z
DTEND:20241011T210000Z
END:VEVENT
END:VCALENDAR
