BEGIN:VCALENDAR
VERSION:2.0
PRODID:SchoolNow
CALSCALE:GREGORIAN
BEGIN:VEVENT
UID:ed8321be-7c4b-11ef-bfb4-0a58a9feac02
DTSTAMP:20240926T211142Z
SUMMARY:SWPBS
LOCATION:Park Elementary
URL;VALUE=URI:https://www.steelvalleysd.org/park/calendar/6697354/swpbs
DTSTART:20241021T110000Z
DTEND:20241025T200000Z
END:VEVENT
END:VCALENDAR
