BEGIN:VCALENDAR
VERSION:2.0
PRODID:SchoolNow
CALSCALE:GREGORIAN
BEGIN:VEVENT
UID:c3d49b54-7c4b-11ef-a6ca-020532869261
DTSTAMP:20240926T211032Z
SUMMARY:Sunshine Kid Cart
LOCATION:Park Elementary
URL;VALUE=URI:https://www.steelvalleysd.org/park/calendar/6697353/sunshine-
 kid-cart
DTSTART:20241021T110000Z
DTEND:20241025T200000Z
END:VEVENT
END:VCALENDAR
