BEGIN:VCALENDAR
VERSION:2.0
PRODID:SchoolNow
CALSCALE:GREGORIAN
BEGIN:VEVENT
UID:754bfbbc-7c4b-11ef-85a7-02c20f9cf683
DTSTAMP:20240926T210820Z
SUMMARY:Team Park Dress Down Day
LOCATION:Park Elementary
URL;VALUE=URI:https://www.steelvalleysd.org/park/calendar/6697352/team-park
 -dress-down-day
DTSTART:20241018T110000Z
DTEND:20241018T200000Z
END:VEVENT
END:VCALENDAR
