BEGIN:VCALENDAR
VERSION:2.0
PRODID:SchoolNow
CALSCALE:GREGORIAN
BEGIN:VEVENT
UID:31569d36-7c4b-11ef-a0c1-0a58a9feac02
DTSTAMP:20240926T210626Z
SUMMARY:School Pictures - Make-up Day
LOCATION:Park Elementary
URL;VALUE=URI:https://www.steelvalleysd.org/park/calendar/6697351/school-pi
 ctures-make-up-day
DTSTART:20241016T120000Z
DTEND:20241016T200000Z
END:VEVENT
END:VCALENDAR
