BEGIN:VCALENDAR
VERSION:2.0
PRODID:SchoolNow
CALSCALE:GREGORIAN
BEGIN:VEVENT
UID:ee378678-7c4a-11ef-add0-0affe2b96c47
DTSTAMP:20240926T210433Z
SUMMARY:Fire Safety Day
LOCATION:Park Elementary
URL;VALUE=URI:https://www.steelvalleysd.org/park/calendar/6697348/fire-safe
 ty-day
DTSTART:20241011T110000Z
DTEND:20241011T200000Z
END:VEVENT
END:VCALENDAR
