BEGIN:VCALENDAR
VERSION:2.0
PRODID:SchoolNow
CALSCALE:GREGORIAN
BEGIN:VEVENT
UID:ddd42700-7c4a-11ef-af5e-0a58a9feac02
DTSTAMP:20240926T210406Z
SUMMARY:Pep Assembly
LOCATION:Park Elementary
URL;VALUE=URI:https://www.steelvalleysd.org/park/calendar/6697347/pep-assem
 bly
DTSTART:20241011T110000Z
DTEND:20241011T200000Z
END:VEVENT
END:VCALENDAR
