BEGIN:VCALENDAR
VERSION:2.0
PRODID:SchoolNow
CALSCALE:GREGORIAN
BEGIN:VEVENT
UID:b9ba8e18-7c4a-11ef-aa57-0a58a9feac02
DTSTAMP:20240926T210305Z
SUMMARY:Spirit Week - Dress Down Day
LOCATION:Park Elementary
URL;VALUE=URI:https://www.steelvalleysd.org/park/calendar/6697346/spirit-we
 ek-dress-down-day
DTSTART:20241011T110000Z
DTEND:20241011T200000Z
END:VEVENT
END:VCALENDAR
