BEGIN:VCALENDAR
VERSION:2.0
PRODID:SchoolNow
CALSCALE:GREGORIAN
BEGIN:VEVENT
UID:96b1ddb8-7c4a-11ef-8499-0a58a9feac02
DTSTAMP:20240926T210206Z
SUMMARY:Spirit Week Dress Down Day
LOCATION:Park Elementary
URL;VALUE=URI:https://www.steelvalleysd.org/park/calendar/6697303/spirit-we
 ek-dress-down-day
DTSTART:20241010T110000Z
DTEND:20241010T200000Z
END:VEVENT
END:VCALENDAR
