BEGIN:VCALENDAR
VERSION:2.0
PRODID:SchoolNow
CALSCALE:GREGORIAN
BEGIN:VEVENT
UID:525986de-7c4a-11ef-9f3e-0a58a9feac02
DTSTAMP:20240926T210012Z
SUMMARY:Spirit Week - Dress Down Day
LOCATION:Park Elementary
URL;VALUE=URI:https://www.steelvalleysd.org/park/calendar/6697302/spirit-we
 ek-dress-down-day
DTSTART:20241009T110000Z
DTEND:20241009T200000Z
END:VEVENT
END:VCALENDAR
