BEGIN:VCALENDAR
VERSION:2.0
PRODID:SchoolNow
CALSCALE:GREGORIAN
BEGIN:VEVENT
UID:ece55422-7c49-11ef-ac2a-0a58a9feac02
DTSTAMP:20240926T205722Z
SUMMARY:Spirit Week Dress Down Day
LOCATION:Park Elementary
URL;VALUE=URI:https://www.steelvalleysd.org/park/calendar/6697289/spirit-we
 ek-dress-down-day
DTSTART:20241008T110000Z
DTEND:20241008T200000Z
END:VEVENT
END:VCALENDAR
