BEGIN:VCALENDAR
VERSION:2.0
PRODID:SchoolNow
CALSCALE:GREGORIAN
BEGIN:VEVENT
UID:9def481e-7c49-11ef-adf0-0a58a9feac02
DTSTAMP:20240926T205509Z
SUMMARY:Team Park Dress Down Day
LOCATION:Park Elementary
URL;VALUE=URI:https://www.steelvalleysd.org/park/calendar/6697288/team-park
 -dress-down-day
DTSTART:20241004T110000Z
DTEND:20241004T200000Z
END:VEVENT
END:VCALENDAR
