BEGIN:VCALENDAR
VERSION:2.0
PRODID:SchoolNow
CALSCALE:GREGORIAN
BEGIN:VEVENT
UID:1912d118-7ac5-11ef-a563-02ec9a156d6b
DTSTAMP:20240927T170705Z
SUMMARY:Veterans Day Assembly - Park Elementary
LOCATION:Park Elementary
URL;VALUE=URI:https://www.steelvalleysd.org/park/calendar/6683082/veterans-
 day-assembly-park-elementary
DTSTART:20241113T020000Z
DTEND:20241113T030000Z
END:VEVENT
END:VCALENDAR
