BEGIN:VCALENDAR
VERSION:2.0
PRODID:SchoolNow
CALSCALE:GREGORIAN
BEGIN:VEVENT
UID:7b70ce9a-5e3d-11ef-90c8-0affc7e3d4ab
DTSTAMP:20240924T224131Z
SUMMARY:Early Dismissal for Students/Act 80 Day
LOCATION:Steel Valley School District
URL;VALUE=URI:https://www.steelvalleysd.org/park/calendar/6425319/early-dis
 missal-for-students-act-80-day
DTSTART:20240925T120000Z
DTEND:20240925T200000Z
END:VEVENT
END:VCALENDAR
