BEGIN:VCALENDAR
VERSION:2.0
PRODID:SchoolNow
CALSCALE:GREGORIAN
BEGIN:VEVENT
UID:65662986-4ea9-11ef-8d8d-02c8b501649b
DTSTAMP:20240730T192452Z
SUMMARY:All Students Report: First Day of School
LOCATION:Steel Valley School District
URL;VALUE=URI:https://www.steelvalleysd.org/park/calendar/6329631/all-stude
 nts-report-first-day-of-school
DTSTART:20240823T100000Z
DTEND:20240823T200000Z
END:VEVENT
END:VCALENDAR
