BEGIN:VCALENDAR
VERSION:2.0
PRODID:SchoolNow
CALSCALE:GREGORIAN
BEGIN:VEVENT
UID:bd56d490-4ea1-11ef-8763-0a58a9feac02
DTSTAMP:20240730T183201Z
SUMMARY:Progress Reports
LOCATION:Steel Valley School District
URL;VALUE=URI:https://www.steelvalleysd.org/park/calendar/6329556/progress-
 reports
DTSTART:20240926T100000Z
DTEND:20240926T190000Z
END:VEVENT
END:VCALENDAR
