BEGIN:VCALENDAR
VERSION:2.0
PRODID:SchoolNow
CALSCALE:GREGORIAN
BEGIN:VEVENT
UID:320656e0-4ea1-11ef-999e-0efb67d14bd9
DTSTAMP:20240730T182627Z
SUMMARY:School Pictures
LOCATION:Park Elementary
URL;VALUE=URI:https://www.steelvalleysd.org/park/calendar/6329552/school-pi
 ctures
DTSTART:20240917T120000Z
DTEND:20240917T200000Z
END:VEVENT
END:VCALENDAR
