BEGIN:VCALENDAR
VERSION:2.0
PRODID:SchoolNow
CALSCALE:GREGORIAN
BEGIN:VEVENT
UID:9992625a-4ea0-11ef-89cf-0efb67d14bd9
DTSTAMP:20240730T182355Z
SUMMARY:PTO Meeting
URL;VALUE=URI:https://www.steelvalleysd.org/park/calendar/6329550/pto-meeti
 ng
DTSTART:20240911T120000Z
DTEND:20240911T230000Z
END:VEVENT
END:VCALENDAR
