BEGIN:VCALENDAR
VERSION:2.0
PRODID:SchoolNow
CALSCALE:GREGORIAN
BEGIN:VEVENT
UID:126db0ae-4ea0-11ef-bfd0-024f8b7f5f43
DTSTAMP:20240904T030510Z
SUMMARY:Open House
LOCATION:Park Elementary
URL;VALUE=URI:https://www.steelvalleysd.org/park/calendar/6329547/early-dis
 missal-clone
DTSTART:20240904T120000Z
DTEND:20240904T230000Z
END:VEVENT
END:VCALENDAR
