BEGIN:VCALENDAR
VERSION:2.0
PRODID:SchoolNow
CALSCALE:GREGORIAN
BEGIN:VEVENT
UID:623fff68-4e98-11ef-9c58-02c657c4815b
DTSTAMP:20240730T172306Z
SUMMARY:Park  Elementary - Meet the Principal Night
LOCATION:Park Elementary
URL;VALUE=URI:https://www.steelvalleysd.org/park/calendar/6329540/park-elem
 entary-meet-the-principal-night
DTSTART:20240815T213000Z
DTEND:20240815T223000Z
END:VEVENT
END:VCALENDAR
