BEGIN:VCALENDAR
VERSION:2.0
PRODID:SchoolNow
CALSCALE:GREGORIAN
BEGIN:VEVENT
UID:494293fa-4e97-11ef-9daa-0a58a9feac02
DTSTAMP:20240926T205535Z
SUMMARY:Week 3
LOCATION:Park Elementary
URL;VALUE=URI:https://www.steelvalleysd.org/park/calendar/6329536/week-3
DTSTART:20241001T100000Z
DTEND:20241004T210000Z
END:VEVENT
END:VCALENDAR
