BEGIN:VCALENDAR
VERSION:2.0
PRODID:SchoolNow
CALSCALE:GREGORIAN
BEGIN:VEVENT
UID:3100b272-4e97-11ef-a8e6-0a58a9feac02
DTSTAMP:20240730T171527Z
SUMMARY:Week 2
LOCATION:Park Elementary
URL;VALUE=URI:https://www.steelvalleysd.org/park/calendar/6329535/week-2
DTSTART:20240923T100000Z
DTEND:20240927T210000Z
END:VEVENT
END:VCALENDAR
