BEGIN:VCALENDAR
VERSION:2.0
PRODID:SchoolNow
CALSCALE:GREGORIAN
BEGIN:VEVENT
UID:0d80468c-4e97-11ef-9dc7-02128f72e233
DTSTAMP:20240730T171334Z
SUMMARY:Week 4
URL;VALUE=URI:https://www.steelvalleysd.org/park/calendar/6329533/week-4-cl
 one
DTSTART:20240909T100000Z
DTEND:20240913T210000Z
END:VEVENT
END:VCALENDAR
