BEGIN:VCALENDAR
VERSION:2.0
PRODID:SchoolNow
CALSCALE:GREGORIAN
BEGIN:VEVENT
UID:e60fb0c4-4e96-11ef-9fe7-0a58a9feac02
DTSTAMP:20240730T171228Z
SUMMARY:Week 3
LOCATION:Park Elementary
URL;VALUE=URI:https://www.steelvalleysd.org/park/calendar/6329532/week-3
DTSTART:20240903T100000Z
DTEND:20240906T210000Z
END:VEVENT
END:VCALENDAR
