BEGIN:VCALENDAR
VERSION:2.0
PRODID:SchoolNow
CALSCALE:GREGORIAN
BEGIN:VEVENT
UID:6d9d4fb6-4e96-11ef-9b65-0a58a9feac02
DTSTAMP:20240730T171046Z
SUMMARY:Week 1
LOCATION:Park Elementary
URL;VALUE=URI:https://www.steelvalleysd.org/park/calendar/6329530/week-1
DTSTART:20240819T100000Z
DTEND:20240823T210000Z
END:VEVENT
END:VCALENDAR
