BEGIN:VCALENDAR
VERSION:2.0
PRODID:SchoolNow
CALSCALE:GREGORIAN
BEGIN:VEVENT
UID:5fc8a176-c335-11ed-8a1c-0aa08bc7f191
DTSTAMP:20230315T132912Z
SUMMARY:Boys basketball PIAA Playoff
URL;VALUE=URI:https://www.steelvalleysd.org/high-school/calendar/3870655/bo
 ys-basketball-piaa-playoff
DTSTART:20230315T233000Z
DTEND:20230316T023000Z
END:VEVENT
END:VCALENDAR
