BEGIN:VCALENDAR
VERSION:2.0
PRODID:SchoolNow
CALSCALE:GREGORIAN
BEGIN:VEVENT
UID:d5b44bfc-8b8f-11ed-af5b-0ed36fcd01ef
DTSTAMP:20230103T175540Z
SUMMARY:Care Mobile
LOCATION:Barrett Elementary
URL;VALUE=URI:https://www.steelvalleysd.org/high-school/calendar/3654272/ca
 re-mobile
DTSTART:20230123T143000Z
DTEND:20230123T183000Z
ATTACH;FILENAME=Care Mobile - Steel Valley Jan - April 2023.pdf;FMTTYPE=app
 lication/pdf:https://campussuite-storage.s3.amazonaws.com/prod/1074787/676
 3d576-3536-11e7-9e05-124f7febbf4a/2532694/9dcf849c-8b8d-11ed-a260-0ed36fcd
 01ef/file/Care Mobile - Steel Valley Jan - April 2023.pdf
END:VEVENT
END:VCALENDAR
