BEGIN:VCALENDAR
VERSION:2.0
PRODID:SchoolNow
CALSCALE:GREGORIAN
BEGIN:VEVENT
UID:1186a3d2-5775-11ec-be5c-0e691f55ae5d
DTSTAMP:20211208T175805Z
SUMMARY:Tuition-Free Machinist Training Presentation
LOCATION:Steel Valley High School Auditorium
URL;VALUE=URI:https://www.steelvalleysd.org/high-school/calendar/2937271/tu
 ition-free-machinist-training-presentation
DTSTART:20211210T141500Z
DTEND:20211210T151500Z
ATTACH;FILENAME=Free Machinist Training Flyer .pdf;FMTTYPE=application/pdf:
 https://campussuite-storage.s3.amazonaws.com/prod/1074787/6763d576-3536-11
 e7-9e05-124f7febbf4a/2352426/cc70fae6-584f-11ec-b29d-0ec4d69cbb79/file/Fre
 e Machinist Training Flyer .pdf
ATTACH;FILENAME=Free Machinist Training Application.pdf;FMTTYPE=application
 /pdf:https://campussuite-storage.s3.amazonaws.com/prod/1074787/6763d576-35
 36-11e7-9e05-124f7febbf4a/2352427/cc710fd6-584f-11ec-a7a9-0ec4d69cbb79/fil
 e/Free Machinist Training Application.pdf
END:VEVENT
END:VCALENDAR
