BEGIN:VCALENDAR
VERSION:2.0
PRODID:SchoolNow
CALSCALE:GREGORIAN
BEGIN:VEVENT
UID:f671264e-170f-11ec-a0a4-0a18e11d00a9
DTSTAMP:20210916T174548Z
SUMMARY:Spirit Week - Movie Star Monday
LOCATION:Steel Valley High School
URL;VALUE=URI:https://www.steelvalleysd.org/high-school/calendar/2741484/mo
 nday-tacky-tourist
DTSTART:20210927T110000Z
DTEND:20210927T120000Z
ATTACH;FILENAME=Spirit Themes by Day 2021-22.pdf;FMTTYPE=application/pdf:ht
 tps://campussuite-storage.s3.amazonaws.com/prod/1074787/6763d576-3536-11e7
 -9e05-124f7febbf4a/2316231/a2480132-170f-11ec-8bf9-0a18e11d00a9/file/Spiri
 t Themes by Day 2021-22.pdf
END:VEVENT
END:VCALENDAR
