BEGIN:VCALENDAR
VERSION:2.0
PRODID:SchoolNow
CALSCALE:GREGORIAN
BEGIN:VEVENT
UID:a587f532-076f-11ec-bc9d-0ad2a07c2fb7
DTSTAMP:20210827T194744Z
SUMMARY:Progress Reports
LOCATION:Steel Valley School District
URL;VALUE=URI:https://www.steelvalleysd.org/high-school/calendar/2692357/pr
 ogress-reports
DTSTART:20210929T152400Z
DTEND:20210929T162400Z
END:VEVENT
END:VCALENDAR
