BEGIN:VCALENDAR
VERSION:2.0
PRODID:SchoolNow
CALSCALE:GREGORIAN
BEGIN:VEVENT
UID:70c79e6a-076f-11ec-8afe-0ad2a07c2fb7
DTSTAMP:20210827T194615Z
SUMMARY:Teacher Inservice/No School for Students
LOCATION:Steel Valley School District
URL;VALUE=URI:https://www.steelvalleysd.org/high-school/calendar/2692352/te
 acher-inservice-no-school-for-students
DTSTART:20211011T192100Z
DTEND:20211011T202100Z
END:VEVENT
END:VCALENDAR
