BEGIN:VCALENDAR
VERSION:2.0
PRODID:SchoolNow
CALSCALE:GREGORIAN
BEGIN:VEVENT
UID:d4b2abb4-076e-11ec-940b-0ad2a07c2fb7
DTSTAMP:20210827T194153Z
SUMMARY:End of Grading Period
LOCATION:Steel Valley School District
URL;VALUE=URI:https://www.steelvalleysd.org/high-school/calendar/2692335/en
 d-of-grading-period
DTSTART:20211028T190800Z
DTEND:20211028T200800Z
END:VEVENT
END:VCALENDAR
