BEGIN:VCALENDAR
VERSION:2.0
PRODID:SchoolNow
CALSCALE:GREGORIAN
BEGIN:VEVENT
UID:5054e026-076e-11ec-8bc8-0ad2a07c2fb7
DTSTAMP:20210827T193811Z
SUMMARY:First Student Day for All Students
LOCATION:Steel Valley School District
URL;VALUE=URI:https://www.steelvalleysd.org/high-school/calendar/2692320/fi
 rst-student-day-for-all-students
DTSTART:20210827T212500Z
DTEND:20210827T222500Z
END:VEVENT
END:VCALENDAR
