BEGIN:VCALENDAR
VERSION:2.0
PRODID:SchoolNow
CALSCALE:GREGORIAN
BEGIN:VEVENT
UID:d595134e-f569-11eb-a1f0-02699dc4d475
DTSTAMP:20210810T134835Z
SUMMARY:Meet the Principal Nights - 8/18/21 @ 6:00pm
LOCATION:HS Auditorium
URL;VALUE=URI:https://www.steelvalleysd.org/high-school/calendar/2655306/me
 et-the-principal-nights-8-18-21-6-00pm
DTSTART:20210818T220000Z
DTEND:20210818T230000Z
END:VEVENT
END:VCALENDAR
