BEGIN:VCALENDAR
VERSION:2.0
PRODID:SchoolNow
CALSCALE:GREGORIAN
BEGIN:VEVENT
UID:7c183c2c-b272-11eb-8955-02dee10cf789
DTSTAMP:20210521T180606Z
SUMMARY:2021 SVHS Senior Class Car Parade
LOCATION:Steel Valley Community
URL;VALUE=URI:https://www.steelvalleysd.org/high-school/calendar/2598220/20
 21-svhs-senior-class-car-parade
DTSTART:20210524T220000Z
DTEND:20210524T230000Z
ATTACH;FILENAME=Senior Car Parade 2021.pdf;FMTTYPE=application/pdf:https://
 campussuite-storage.s3.amazonaws.com/prod/1074787/6763d576-3536-11e7-9e05-
 124f7febbf4a/2267256/57fe8294-ba5e-11eb-bce4-0ad10ee18851/file/Senior Car 
 Parade 2021.pdf
END:VEVENT
END:VCALENDAR
