BEGIN:VCALENDAR
VERSION:2.0
PRODID:SchoolNow
CALSCALE:GREGORIAN
BEGIN:VEVENT
UID:023da05c-6a2b-11eb-94a1-027d3a4a07f3
DTSTAMP:20210208T163051Z
SUMMARY:Staff Flu Shots
LOCATION:SV MS/HS
URL;VALUE=URI:https://www.steelvalleysd.org/high-school/calendar/2535818/st
 aff-flu-shots
DTSTART:20210929T183000Z
DTEND:20210929T200000Z
END:VEVENT
END:VCALENDAR
