BEGIN:VCALENDAR
VERSION:2.0
PRODID:SchoolNow
CALSCALE:GREGORIAN
BEGIN:VEVENT
UID:77bc3fbe-6580-11eb-9073-02b8d3e6c16d
DTSTAMP:20210419T152843Z
SUMMARY:Steel Valley Prom
URL;VALUE=URI:https://www.steelvalleysd.org/high-school/calendar/2533809/st
 eel-valley-prom
DTSTART:20210506T220000Z
DTEND:20210507T020000Z
END:VEVENT
END:VCALENDAR
