BEGIN:VCALENDAR
VERSION:2.0
PRODID:SchoolNow
CALSCALE:GREGORIAN
BEGIN:VEVENT
UID:19eb0ed8-6580-11eb-aa84-02b8d3e6c16d
DTSTAMP:20210415T223413Z
SUMMARY:Prom Tickets on Sale
LOCATION:Steel Valley High School
URL;VALUE=URI:https://www.steelvalleysd.org/high-school/calendar/2533807/pr
 om-tickets-on-sale
DTSTART:20210407T120000Z
DTEND:20210415T190000Z
END:VEVENT
END:VCALENDAR
