BEGIN:VCALENDAR
VERSION:2.0
PRODID:SchoolNow
CALSCALE:GREGORIAN
BEGIN:VEVENT
UID:d99a3d22-657f-11eb-a61e-02b8d3e6c16d
DTSTAMP:20210303T132813Z
SUMMARY:Hoagies Delivered
URL;VALUE=URI:https://www.steelvalleysd.org/high-school/calendar/2533804/ho
 agies-delivered
DTSTART:20210303T195300Z
DTEND:20210303T205300Z
END:VEVENT
END:VCALENDAR
