BEGIN:VCALENDAR
VERSION:2.0
PRODID:SchoolNow
CALSCALE:GREGORIAN
BEGIN:VEVENT
UID:929d3d8e-657f-11eb-b890-02b8d3e6c16d
DTSTAMP:20210222T132550Z
SUMMARY:Prom Hoagie Sale
URL;VALUE=URI:https://www.steelvalleysd.org/high-school/calendar/2533802/po
 m-hoagie-sale
DTSTART:20210202T172800Z
DTEND:20210219T200000Z
ATTACH;FILENAME=Prom Hoagie Sale 2020-21.pdf;FMTTYPE=application/pdf:https:
 //campussuite-storage.s3.amazonaws.com/prod/1074787/6763d576-3536-11e7-9e0
 5-124f7febbf4a/2222140/9a2aa3ee-657e-11eb-9810-02b8d3e6c16d/file/Prom Hoag
 ie Sale 2020-21.pdf
END:VEVENT
END:VCALENDAR
