BEGIN:VCALENDAR
VERSION:2.0
PRODID:SchoolNow
CALSCALE:GREGORIAN
BEGIN:VEVENT
UID:f361cccc-3eef-11eb-ae3e-0a37c9d40017
DTSTAMP:20201215T160946Z
SUMMARY:HS and MS Ugly Sweater Day December 22nd on Zoom
URL;VALUE=URI:https://www.steelvalleysd.org/high-school/calendar/2512127/hs
 -and-ms-ugly-sweater-day-december-22nd-on-zoom
DTSTART:20201222T190000Z
DTEND:20201222T200000Z
ATTACH;FILENAME=UglyChristmasSweaterDay2020.pdf;FMTTYPE=application/pdf:htt
 ps://campussuite-storage.s3.amazonaws.com/prod/1074787/6763d576-3536-11e7-
 9e05-124f7febbf4a/2196582/2ac4c82e-3eee-11eb-96db-0a88eaae4e7f/file/UglyCh
 ristmasSweaterDay2020.pdf
END:VEVENT
END:VCALENDAR
