BEGIN:VCALENDAR
VERSION:2.0
PRODID:SchoolNow
CALSCALE:GREGORIAN
BEGIN:VEVENT
UID:e91e2336-0a48-11eb-8ee1-122c833e81d7
DTSTAMP:20201009T160302Z
SUMMARY:Financial Aid Night
DESCRIPTION:The evening features a general financial aid overview and then 
 a walk through of the FAFSA and state grant application process.
LOCATION:Virtual FAFSA Presentation from the comfort of your home
URL;VALUE=URI:https://www.steelvalleysd.org/high-school/calendar/2434894/fi
 nancial-aid-night
DTSTART:20201015T220000Z
DTEND:20201015T233000Z
END:VEVENT
END:VCALENDAR
